BEGIN:VCALENDAR
VERSION:2.0
PRODID:-//Citizens Advice Plymouth - ECPv6.15.20//NONSGML v1.0//EN
CALSCALE:GREGORIAN
METHOD:PUBLISH
X-ORIGINAL-URL:https://citizensadviceplymouth.org.uk
X-WR-CALDESC:Events for Citizens Advice Plymouth
REFRESH-INTERVAL;VALUE=DURATION:PT1H
X-Robots-Tag:noindex
X-PUBLISHED-TTL:PT1H
BEGIN:VTIMEZONE
TZID:Europe/London
BEGIN:DAYLIGHT
TZOFFSETFROM:+0000
TZOFFSETTO:+0100
TZNAME:BST
DTSTART:20230326T010000
END:DAYLIGHT
BEGIN:STANDARD
TZOFFSETFROM:+0100
TZOFFSETTO:+0000
TZNAME:GMT
DTSTART:20231029T010000
END:STANDARD
BEGIN:DAYLIGHT
TZOFFSETFROM:+0000
TZOFFSETTO:+0100
TZNAME:BST
DTSTART:20240331T010000
END:DAYLIGHT
BEGIN:STANDARD
TZOFFSETFROM:+0100
TZOFFSETTO:+0000
TZNAME:GMT
DTSTART:20241027T010000
END:STANDARD
BEGIN:DAYLIGHT
TZOFFSETFROM:+0000
TZOFFSETTO:+0100
TZNAME:BST
DTSTART:20250330T010000
END:DAYLIGHT
BEGIN:STANDARD
TZOFFSETFROM:+0100
TZOFFSETTO:+0000
TZNAME:GMT
DTSTART:20251026T010000
END:STANDARD
END:VTIMEZONE
BEGIN:VEVENT
DTSTART;TZID=Europe/London:20240925T100000
DTEND;TZID=Europe/London:20240925T140000
DTSTAMP:20260424T093908
CREATED:20240822T155626Z
LAST-MODIFIED:20240920T084711Z
UID:4978-1727258400-1727272800@citizensadviceplymouth.org.uk
SUMMARY:Barne Barton advice drop-in
DESCRIPTION:Our trained adviser can offer signposting and confidential advice on benefits\, budgeting\, debts and ways to increase income – no appointment needed.
URL:https://citizensadviceplymouth.org.uk/event/barne-barton-advice-drop-in-16/
LOCATION:The Pioneers Cafe\, The Barn Family Hub\, Barne Barton\, Kit Hill Crescent\, PL5 1EJ
CATEGORIES:Money Advice,Open Clinic
END:VEVENT
END:VCALENDAR