BEGIN:VCALENDAR
VERSION:2.0
PRODID:-//Citizens Advice Plymouth - ECPv6.15.20//NONSGML v1.0//EN
CALSCALE:GREGORIAN
METHOD:PUBLISH
X-WR-CALNAME:Citizens Advice Plymouth
X-ORIGINAL-URL:https://citizensadviceplymouth.org.uk
X-WR-CALDESC:Events for Citizens Advice Plymouth
REFRESH-INTERVAL;VALUE=DURATION:PT1H
X-Robots-Tag:noindex
X-PUBLISHED-TTL:PT1H
BEGIN:VTIMEZONE
TZID:Europe/London
BEGIN:DAYLIGHT
TZOFFSETFROM:+0000
TZOFFSETTO:+0100
TZNAME:BST
DTSTART:20230326T010000
END:DAYLIGHT
BEGIN:STANDARD
TZOFFSETFROM:+0100
TZOFFSETTO:+0000
TZNAME:GMT
DTSTART:20231029T010000
END:STANDARD
BEGIN:DAYLIGHT
TZOFFSETFROM:+0000
TZOFFSETTO:+0100
TZNAME:BST
DTSTART:20240331T010000
END:DAYLIGHT
BEGIN:STANDARD
TZOFFSETFROM:+0100
TZOFFSETTO:+0000
TZNAME:GMT
DTSTART:20241027T010000
END:STANDARD
BEGIN:DAYLIGHT
TZOFFSETFROM:+0000
TZOFFSETTO:+0100
TZNAME:BST
DTSTART:20250330T010000
END:DAYLIGHT
BEGIN:STANDARD
TZOFFSETFROM:+0100
TZOFFSETTO:+0000
TZNAME:GMT
DTSTART:20251026T010000
END:STANDARD
END:VTIMEZONE
BEGIN:VEVENT
DTSTART;TZID=Europe/London:20240213T100000
DTEND;TZID=Europe/London:20240213T130000
DTSTAMP:20260424T124658
CREATED:20240209T161944Z
LAST-MODIFIED:20240209T162011Z
UID:2638-1707818400-1707829200@citizensadviceplymouth.org.uk
SUMMARY:Southway advice drop-in
DESCRIPTION:Our trained adviser can offer signposting and confidential advice on benefits\, budgeting\, debts and ways to increase income – no appointment needed.
URL:https://citizensadviceplymouth.org.uk/event/advice-drop-in/
LOCATION:Southway Youth & Community Centre\, Hendwell Close\, Plymouth\, PL6 6TB
END:VEVENT
BEGIN:VEVENT
DTSTART;TZID=Europe/London:20240214T100000
DTEND;TZID=Europe/London:20240214T130000
DTSTAMP:20260424T124658
CREATED:20240209T162304Z
LAST-MODIFIED:20240209T162304Z
UID:2641-1707904800-1707915600@citizensadviceplymouth.org.uk
SUMMARY:Barne Barton advice drop-in
DESCRIPTION:Our trained adviser can offer signposting and confidential advice on benefits\, budgeting\, debts and ways to increase income – no appointment needed.
URL:https://citizensadviceplymouth.org.uk/event/barne-barton-advice-drop-in/
LOCATION:The Pioneers Cafe\, The Barn Family Hub\, Barne Barton\, Kit Hill Crescent\, PL5 1EJ
END:VEVENT
BEGIN:VEVENT
DTSTART;TZID=Europe/London:20240221T130000
DTEND;TZID=Europe/London:20240221T150000
DTSTAMP:20260424T124658
CREATED:20240215T165845Z
LAST-MODIFIED:20240215T165845Z
UID:2704-1708520400-1708527600@citizensadviceplymouth.org.uk
SUMMARY:East End advice drop-in
DESCRIPTION:Our trained adviser can offer signposting and confidential advice on benefits\, budgeting\, debts and ways to increase income – no appointment needed.
URL:https://citizensadviceplymouth.org.uk/event/east-end-advice-drop-in/
LOCATION:Cattedown Social Club\, S Milton Street\, PL4 0QD
CATEGORIES:Community,Money Advice
END:VEVENT
BEGIN:VEVENT
DTSTART;TZID=Europe/London:20240222T100000
DTEND;TZID=Europe/London:20240222T130000
DTSTAMP:20260424T124658
CREATED:20240215T160158Z
LAST-MODIFIED:20240215T160158Z
UID:2673-1708596000-1708606800@citizensadviceplymouth.org.uk
SUMMARY:Estover advice drop-in
DESCRIPTION:Our trained adviser can offer signposting and confidential advice on benefits\, budgeting\, debts and ways to increase income – no appointment needed.
URL:https://citizensadviceplymouth.org.uk/event/estover-advice-drop-in/
LOCATION:ELM Community Centre\, Leypark Drive\, Leypark Walk\, Estover\,\, Plymouth\, PL6 8UE
CATEGORIES:Community,Money Advice
END:VEVENT
BEGIN:VEVENT
DTSTART;TZID=Europe/London:20240227T100000
DTEND;TZID=Europe/London:20240227T130000
DTSTAMP:20260424T124658
CREATED:20240215T135320Z
LAST-MODIFIED:20240215T135320Z
UID:2644-1709028000-1709038800@citizensadviceplymouth.org.uk
SUMMARY:Southway advice drop-in
DESCRIPTION:Our trained adviser can offer signposting and confidential advice on benefits\, budgeting\, debts and ways to increase income – no appointment needed.
URL:https://citizensadviceplymouth.org.uk/event/southway-advice-drop-in/
LOCATION:Southway Youth & Community Centre\, Hendwell Close\, Plymouth\, PL6 6TB
CATEGORIES:Money Advice
END:VEVENT
BEGIN:VEVENT
DTSTART;TZID=Europe/London:20240228T100000
DTEND;TZID=Europe/London:20240228T130000
DTSTAMP:20260424T124658
CREATED:20240215T140615Z
LAST-MODIFIED:20240215T140615Z
UID:2659-1709114400-1709125200@citizensadviceplymouth.org.uk
SUMMARY:Barne Barton advice drop-in
DESCRIPTION:Our trained adviser can offer signposting and confidential advice on benefits\, budgeting\, debts and ways to increase income – no appointment needed.
URL:https://citizensadviceplymouth.org.uk/event/barne-barton-advice-drop-in-2/
LOCATION:The Pioneers Cafe\, The Barn Family Hub\, Barne Barton\, Kit Hill Crescent\, PL5 1EJ
CATEGORIES:Community,Money Advice
END:VEVENT
BEGIN:VEVENT
DTSTART;TZID=Europe/London:20240228T100000
DTEND;TZID=Europe/London:20240228T130000
DTSTAMP:20260424T124658
CREATED:20240215T163854Z
LAST-MODIFIED:20240215T163854Z
UID:2690-1709114400-1709125200@citizensadviceplymouth.org.uk
SUMMARY:Morice Town advice drop-in
DESCRIPTION:Our trained adviser can offer signposting and confidential advice on benefits\, budgeting\, debts and ways to increase income – no appointment needed.
URL:https://citizensadviceplymouth.org.uk/event/morice-town-advice-drop-in/
LOCATION:Morice Town Children’s Centre\, Morice Town Children's Centre\, Charlotte St\, Morice Town\, Plymouth\, Devon\, PL1 2RJ\, United Kingdom
CATEGORIES:Community,Money Advice
END:VEVENT
END:VCALENDAR