BEGIN:VCALENDAR
VERSION:2.0
PRODID:-//Citizens Advice Plymouth - ECPv6.15.20//NONSGML v1.0//EN
CALSCALE:GREGORIAN
METHOD:PUBLISH
X-WR-CALNAME:Citizens Advice Plymouth
X-ORIGINAL-URL:https://citizensadviceplymouth.org.uk
X-WR-CALDESC:Events for Citizens Advice Plymouth
REFRESH-INTERVAL;VALUE=DURATION:PT1H
X-Robots-Tag:noindex
X-PUBLISHED-TTL:PT1H
BEGIN:VTIMEZONE
TZID:Europe/London
BEGIN:DAYLIGHT
TZOFFSETFROM:+0000
TZOFFSETTO:+0100
TZNAME:BST
DTSTART:20230326T010000
END:DAYLIGHT
BEGIN:STANDARD
TZOFFSETFROM:+0100
TZOFFSETTO:+0000
TZNAME:GMT
DTSTART:20231029T010000
END:STANDARD
BEGIN:DAYLIGHT
TZOFFSETFROM:+0000
TZOFFSETTO:+0100
TZNAME:BST
DTSTART:20240331T010000
END:DAYLIGHT
BEGIN:STANDARD
TZOFFSETFROM:+0100
TZOFFSETTO:+0000
TZNAME:GMT
DTSTART:20241027T010000
END:STANDARD
BEGIN:DAYLIGHT
TZOFFSETFROM:+0000
TZOFFSETTO:+0100
TZNAME:BST
DTSTART:20250330T010000
END:DAYLIGHT
BEGIN:STANDARD
TZOFFSETFROM:+0100
TZOFFSETTO:+0000
TZNAME:GMT
DTSTART:20251026T010000
END:STANDARD
END:VTIMEZONE
BEGIN:VEVENT
DTSTART;TZID=Europe/London:20240306T100000
DTEND;TZID=Europe/London:20240306T140000
DTSTAMP:20260424T141736
CREATED:20240220T110915Z
LAST-MODIFIED:20240222T135440Z
UID:2755-1709719200-1709733600@citizensadviceplymouth.org.uk
SUMMARY:Kay Kendall Leukaemia Project drop-in - Derriford Hospital
DESCRIPTION:Drop-in and talk to one of our Kay Kendall Leukaemia Fund (KKLF) advisers on the Birch Day Case Unit at Derriford Hospital. \nOur KKLF project offers support to people\, their carers\, or anyone in the family affected by leukaemia\, lymphoma\, myeloma or any other blood cancers. \nThis can include help with benefits\, checking what support is available for travel costs\, debt and other money advice\, housing and family advice and more. \nFor more info about the project visit the KKLF project page on our website.
URL:https://citizensadviceplymouth.org.uk/event/kay-kendall-leukaemia-project-drop-in-derriford-hospital/
LOCATION:Birch Day Case Unit\, 8th Floor\, Derriford Hospital\, Plymouth\, PL6 8DH
END:VEVENT
BEGIN:VEVENT
DTSTART;TZID=Europe/London:20240306T130000
DTEND;TZID=Europe/London:20240306T150000
DTSTAMP:20260424T141736
CREATED:20240215T164502Z
LAST-MODIFIED:20240215T164502Z
UID:2698-1709730000-1709737200@citizensadviceplymouth.org.uk
SUMMARY:Honicknowle advice drop-in
DESCRIPTION:Our trained adviser can offer signposting and confidential advice on benefits\, budgeting\, debts and ways to increase income – no appointment needed.
URL:https://citizensadviceplymouth.org.uk/event/honicknowle-advice-drop-in/
LOCATION:Honicknowle Youth Centre\, Honicknowle Green\, Honicknowle\, Plymouth\, County (optional)\, PL5 3PX\, United Kingdom
CATEGORIES:Community,Money Advice
END:VEVENT
BEGIN:VEVENT
DTSTART;TZID=Europe/London:20240307T100000
DTEND;TZID=Europe/London:20240307T130000
DTSTAMP:20260424T141736
CREATED:20240215T160312Z
LAST-MODIFIED:20240215T160312Z
UID:2675-1709805600-1709816400@citizensadviceplymouth.org.uk
SUMMARY:Estover advice drop-in
DESCRIPTION:Our trained adviser can offer signposting and confidential advice on benefits\, budgeting\, debts and ways to increase income – no appointment needed.
URL:https://citizensadviceplymouth.org.uk/event/estover-advice-drop-in-2/
LOCATION:ELM Community Centre\, Leypark Drive\, Leypark Walk\, Estover\,\, Plymouth\, PL6 8UE
CATEGORIES:Community,Money Advice
END:VEVENT
BEGIN:VEVENT
DTSTART;TZID=Europe/London:20240312T100000
DTEND;TZID=Europe/London:20240312T130000
DTSTAMP:20260424T141736
CREATED:20240215T135446Z
LAST-MODIFIED:20240215T135446Z
UID:2646-1710237600-1710248400@citizensadviceplymouth.org.uk
SUMMARY:Southway advice drop-in
DESCRIPTION:Our trained adviser can offer signposting and confidential advice on benefits\, budgeting\, debts and ways to increase income – no appointment needed.
URL:https://citizensadviceplymouth.org.uk/event/southway-advice-drop-in-2/
LOCATION:Southway Youth & Community Centre\, Hendwell Close\, Plymouth\, PL6 6TB
CATEGORIES:Money Advice
END:VEVENT
BEGIN:VEVENT
DTSTART;TZID=Europe/London:20240313T100000
DTEND;TZID=Europe/London:20240313T130000
DTSTAMP:20260424T141736
CREATED:20240215T141221Z
LAST-MODIFIED:20240215T141221Z
UID:2661-1710324000-1710334800@citizensadviceplymouth.org.uk
SUMMARY:Barne Barton advice drop-in
DESCRIPTION:Our trained adviser can offer signposting and confidential advice on benefits\, budgeting\, debts and ways to increase income – no appointment needed.
URL:https://citizensadviceplymouth.org.uk/event/barne-barton-advice-drop-in-3/
LOCATION:The Pioneers Cafe\, The Barn Family Hub\, Barne Barton\, Kit Hill Crescent\, PL5 1EJ
CATEGORIES:Community,Money Advice
END:VEVENT
BEGIN:VEVENT
DTSTART;TZID=Europe/London:20240320T130000
DTEND;TZID=Europe/London:20240320T150000
DTSTAMP:20260424T141736
CREATED:20240215T170041Z
LAST-MODIFIED:20240215T170041Z
UID:2707-1710939600-1710946800@citizensadviceplymouth.org.uk
SUMMARY:East End advice drop-in
DESCRIPTION:Our trained adviser can offer signposting and confidential advice on benefits\, budgeting\, debts and ways to increase income – no appointment needed.
URL:https://citizensadviceplymouth.org.uk/event/east-end-advice-drop-in-2/
LOCATION:Cattedown Social Club\, S Milton Street\, PL4 0QD
CATEGORIES:Community,Money Advice
END:VEVENT
BEGIN:VEVENT
DTSTART;TZID=Europe/London:20240321T100000
DTEND;TZID=Europe/London:20240321T130000
DTSTAMP:20260424T141736
CREATED:20240215T160801Z
LAST-MODIFIED:20240215T160801Z
UID:2678-1711015200-1711026000@citizensadviceplymouth.org.uk
SUMMARY:Estover advice drop-in
DESCRIPTION:Our trained adviser can offer signposting and confidential advice on benefits\, budgeting\, debts and ways to increase income – no appointment needed.
URL:https://citizensadviceplymouth.org.uk/event/estover-advice-drop-in-3/
LOCATION:ELM Community Centre\, Leypark Drive\, Leypark Walk\, Estover\,\, Plymouth\, PL6 8UE
CATEGORIES:Community,Money Advice
END:VEVENT
BEGIN:VEVENT
DTSTART;TZID=Europe/London:20240326T100000
DTEND;TZID=Europe/London:20240326T130000
DTSTAMP:20260424T141736
CREATED:20240215T135601Z
LAST-MODIFIED:20240215T135601Z
UID:2648-1711447200-1711458000@citizensadviceplymouth.org.uk
SUMMARY:Southway advice drop-in
DESCRIPTION:Our trained adviser can offer signposting and confidential advice on benefits\, budgeting\, debts and ways to increase income – no appointment needed.
URL:https://citizensadviceplymouth.org.uk/event/southway-advice-drop-in-3/
LOCATION:Southway Youth & Community Centre\, Hendwell Close\, Plymouth\, PL6 6TB
CATEGORIES:Community,Money Advice
END:VEVENT
BEGIN:VEVENT
DTSTART;TZID=Europe/London:20240327T100000
DTEND;TZID=Europe/London:20240327T130000
DTSTAMP:20260424T141736
CREATED:20240215T164107Z
LAST-MODIFIED:20240215T164107Z
UID:2692-1711533600-1711544400@citizensadviceplymouth.org.uk
SUMMARY:Morice Town advice drop-in
DESCRIPTION:Our trained adviser can offer signposting and confidential advice on benefits\, budgeting\, debts and ways to increase income – no appointment needed.
URL:https://citizensadviceplymouth.org.uk/event/morice-town-advice-drop-in-2/
LOCATION:Morice Town Children’s Centre\, Morice Town Children's Centre\, Charlotte St\, Morice Town\, Plymouth\, Devon\, PL1 2RJ\, United Kingdom
CATEGORIES:Community,Money Advice
END:VEVENT
BEGIN:VEVENT
DTSTART;TZID=Europe/London:20240327T100000
DTEND;TZID=Europe/London:20240327T140000
DTSTAMP:20260424T141736
CREATED:20240215T141504Z
LAST-MODIFIED:20240425T145428Z
UID:2663-1711533600-1711548000@citizensadviceplymouth.org.uk
SUMMARY:Barne Barton advice drop-in
DESCRIPTION:Our trained adviser can offer signposting and confidential advice on benefits\, budgeting\, debts and ways to increase income – no appointment needed.
URL:https://citizensadviceplymouth.org.uk/event/barne-barton-advice-drop-in-4/
LOCATION:The Pioneers Cafe\, The Barn Family Hub\, Barne Barton\, Kit Hill Crescent\, PL5 1EJ
CATEGORIES:Community,Money Advice
END:VEVENT
END:VCALENDAR