BEGIN:VCALENDAR
VERSION:2.0
PRODID:-//Citizens Advice Plymouth - ECPv6.15.20//NONSGML v1.0//EN
CALSCALE:GREGORIAN
METHOD:PUBLISH
X-ORIGINAL-URL:https://citizensadviceplymouth.org.uk
X-WR-CALDESC:Events for Citizens Advice Plymouth
REFRESH-INTERVAL;VALUE=DURATION:PT1H
X-Robots-Tag:noindex
X-PUBLISHED-TTL:PT1H
BEGIN:VTIMEZONE
TZID:Europe/London
BEGIN:DAYLIGHT
TZOFFSETFROM:+0000
TZOFFSETTO:+0100
TZNAME:BST
DTSTART:20230326T010000
END:DAYLIGHT
BEGIN:STANDARD
TZOFFSETFROM:+0100
TZOFFSETTO:+0000
TZNAME:GMT
DTSTART:20231029T010000
END:STANDARD
BEGIN:DAYLIGHT
TZOFFSETFROM:+0000
TZOFFSETTO:+0100
TZNAME:BST
DTSTART:20240331T010000
END:DAYLIGHT
BEGIN:STANDARD
TZOFFSETFROM:+0100
TZOFFSETTO:+0000
TZNAME:GMT
DTSTART:20241027T010000
END:STANDARD
BEGIN:DAYLIGHT
TZOFFSETFROM:+0000
TZOFFSETTO:+0100
TZNAME:BST
DTSTART:20250330T010000
END:DAYLIGHT
BEGIN:STANDARD
TZOFFSETFROM:+0100
TZOFFSETTO:+0000
TZNAME:GMT
DTSTART:20251026T010000
END:STANDARD
END:VTIMEZONE
BEGIN:VEVENT
DTSTART;TZID=Europe/London:20240604T100000
DTEND;TZID=Europe/London:20240604T140000
DTSTAMP:20260424T220202
CREATED:20240603T084807Z
LAST-MODIFIED:20240603T084807Z
UID:3545-1717495200-1717509600@citizensadviceplymouth.org.uk
SUMMARY:Southway advice drop-in
DESCRIPTION:Our trained adviser can offer signposting and confidential advice on benefits\, budgeting\, debts and ways to increase income – no appointment needed.
URL:https://citizensadviceplymouth.org.uk/event/southway-advice-drop-in-8/
LOCATION:Southway Youth & Community Centre\, Hendwell Close\, Plymouth\, PL6 6TB
CATEGORIES:Community,Open Clinic
END:VEVENT
BEGIN:VEVENT
DTSTART;TZID=Europe/London:20240605T100000
DTEND;TZID=Europe/London:20240605T140000
DTSTAMP:20260424T220202
CREATED:20240603T095121Z
LAST-MODIFIED:20240603T095121Z
UID:3561-1717581600-1717596000@citizensadviceplymouth.org.uk
SUMMARY:Barne Barton advice drop-in
DESCRIPTION:Our trained adviser can offer signposting and confidential advice on benefits\, budgeting\, debts and ways to increase income – no appointment needed.
URL:https://citizensadviceplymouth.org.uk/event/barne-barton-advice-drop-in-9/
LOCATION:The Pioneers Cafe\, The Barn Family Hub\, Barne Barton\, Kit Hill Crescent\, PL5 1EJ
CATEGORIES:Community,Money Advice,Open Clinic
END:VEVENT
BEGIN:VEVENT
DTSTART;TZID=Europe/London:20240605T130000
DTEND;TZID=Europe/London:20240605T170000
DTSTAMP:20260424T220202
CREATED:20240603T133143Z
LAST-MODIFIED:20240603T133143Z
UID:3566-1717592400-1717606800@citizensadviceplymouth.org.uk
SUMMARY:Chinese Community Project advice drop-in
DESCRIPTION:Our trained adviser can offer signposting and confidential advice in Mandarin or Cantonese on issues like debt\, housing\, employment and more. No appointment needed\, and you do not need to be a resident of Tamfu House to access the drop-in. \nFor more details including different ways to access the project\, visit our Chinese Community Project webpage.
URL:https://citizensadviceplymouth.org.uk/event/chinese-community-project-advice-drop-in/
LOCATION:Tamfu House\, 29 Downton Close\, Plymouth\, PL1 5DD\, United Kingdom
CATEGORIES:Community,Money Advice
END:VEVENT
BEGIN:VEVENT
DTSTART;TZID=Europe/London:20240606T100000
DTEND;TZID=Europe/London:20240606T140000
DTSTAMP:20260424T220202
CREATED:20240222T134022Z
LAST-MODIFIED:20240222T134022Z
UID:2801-1717668000-1717682400@citizensadviceplymouth.org.uk
SUMMARY:Kay Kendall Leukaemia Project drop-in – Derriford Hospital
DESCRIPTION:Drop-in and talk to one of our Kay Kendall Leukaemia Fund (KKLF) advisers on the Birch Day Case Unit at Derriford Hospital. \nOur KKLF project offers support to people\, their carers\, or anyone in the family affected by leukaemia\, lymphoma\, myeloma or any other blood cancers. \nThis can include help with benefits\, checking what support is available for travel costs\, debt and other money advice\, housing and family advice and more. \nFor more info about the project visit the KKLF project page on our website.
URL:https://citizensadviceplymouth.org.uk/event/kay-kendall-leukaemia-project-drop-in-derriford-hospital-4/
LOCATION:Birch Day Case Unit\, 8th Floor\, Derriford Hospital\, Plymouth\, PL6 8DH
CATEGORIES:Open Clinic
END:VEVENT
BEGIN:VEVENT
DTSTART;TZID=Europe/London:20240612T110000
DTEND;TZID=Europe/London:20240612T130000
DTSTAMP:20260424T220202
CREATED:20240603T085730Z
LAST-MODIFIED:20240603T085730Z
UID:3547-1718190000-1718197200@citizensadviceplymouth.org.uk
SUMMARY:East End advice drop-in
DESCRIPTION:Our trained adviser can offer signposting and confidential advice on benefits\, budgeting\, debts and ways to increase income – no appointment needed.
URL:https://citizensadviceplymouth.org.uk/event/east-end-advice-drop-in-5/
LOCATION:Cattedown Social Club\, S Milton Street\, PL4 0QD
CATEGORIES:Community,Money Advice,Open Clinic
END:VEVENT
BEGIN:VEVENT
DTSTART;TZID=Europe/London:20240612T130000
DTEND;TZID=Europe/London:20240612T170000
DTSTAMP:20260424T220202
CREATED:20240603T133629Z
LAST-MODIFIED:20240603T133629Z
UID:3569-1718197200-1718211600@citizensadviceplymouth.org.uk
SUMMARY:Chinese Community Project advice drop-in
DESCRIPTION:Our trained adviser can offer signposting and confidential advice in Mandarin or Cantonese on issues like debt\, housing\, employment and more. No appointment needed\, and you do not need to be a resident of Tamfu House to access the drop-in. \nFor more details including different ways to access the project\, visit our Chinese Community Project webpage.
URL:https://citizensadviceplymouth.org.uk/event/chinese-community-project-advice-drop-in-2/
LOCATION:Tamfu House\, 29 Downton Close\, Plymouth\, PL1 5DD\, United Kingdom
CATEGORIES:Community,Money Advice,Open Clinic
END:VEVENT
BEGIN:VEVENT
DTSTART;TZID=Europe/London:20240613T100000
DTEND;TZID=Europe/London:20240613T140000
DTSTAMP:20260424T220202
CREATED:20240603T085925Z
LAST-MODIFIED:20240603T085950Z
UID:3549-1718272800-1718287200@citizensadviceplymouth.org.uk
SUMMARY:Estover advice drop-in
DESCRIPTION:Our trained adviser can offer signposting and confidential advice on benefits\, budgeting\, debts and ways to increase income – no appointment needed.
URL:https://citizensadviceplymouth.org.uk/event/estover-advice-drop-in-9/
LOCATION:ELM Community Centre\, Leypark Drive\, Leypark Walk\, Estover\,\, Plymouth\, PL6 8UE
CATEGORIES:Community,Money Advice,Open Clinic
END:VEVENT
BEGIN:VEVENT
DTSTART;TZID=Europe/London:20240618T100000
DTEND;TZID=Europe/London:20240618T140000
DTSTAMP:20260424T220202
CREATED:20240603T090239Z
LAST-MODIFIED:20240603T090239Z
UID:3551-1718704800-1718719200@citizensadviceplymouth.org.uk
SUMMARY:Southway advice drop-in
DESCRIPTION:Our trained adviser can offer signposting and confidential advice on benefits\, budgeting\, debts and ways to increase income – no appointment needed.
URL:https://citizensadviceplymouth.org.uk/event/southway-advice-drop-in-9/
LOCATION:Southway Youth & Community Centre\, Hendwell Close\, Plymouth\, PL6 6TB
CATEGORIES:Community,Money Advice,Open Clinic
END:VEVENT
BEGIN:VEVENT
DTSTART;TZID=Europe/London:20240619T100000
DTEND;TZID=Europe/London:20240619T140000
DTSTAMP:20260424T220202
CREATED:20240603T095615Z
LAST-MODIFIED:20240618T151444Z
UID:3563-1718791200-1718805600@citizensadviceplymouth.org.uk
SUMMARY:!!!CANCELLED!!! - Barne Barton advice drop-in
DESCRIPTION:Our trained adviser can offer signposting and confidential advice on benefits\, budgeting\, debts and ways to increase income – no appointment needed.
URL:https://citizensadviceplymouth.org.uk/event/barne-barton-advice-drop-in-10/
LOCATION:The Pioneers Cafe\, The Barn Family Hub\, Barne Barton\, Kit Hill Crescent\, PL5 1EJ
CATEGORIES:Community,Money Advice,Open Clinic
END:VEVENT
BEGIN:VEVENT
DTSTART;TZID=Europe/London:20240619T130000
DTEND;TZID=Europe/London:20240619T170000
DTSTAMP:20260424T220202
CREATED:20240603T133734Z
LAST-MODIFIED:20240603T133734Z
UID:3572-1718802000-1718816400@citizensadviceplymouth.org.uk
SUMMARY:Chinese Community Project advice drop-in
DESCRIPTION:Our trained adviser can offer signposting and confidential advice in Mandarin or Cantonese on issues like debt\, housing\, employment and more. No appointment needed\, and you do not need to be a resident of Tamfu House to access the drop-in. \nFor more details including different ways to access the project\, visit our Chinese Community Project webpage.
URL:https://citizensadviceplymouth.org.uk/event/chinese-community-project-advice-drop-in-3/
LOCATION:Tamfu House\, 29 Downton Close\, Plymouth\, PL1 5DD\, United Kingdom
CATEGORIES:Community,Money Advice,Open Clinic
END:VEVENT
BEGIN:VEVENT
DTSTART;TZID=Europe/London:20240620T110000
DTEND;TZID=Europe/London:20240620T150000
DTSTAMP:20260424T220202
CREATED:20240603T090417Z
LAST-MODIFIED:20240603T090417Z
UID:3553-1718881200-1718895600@citizensadviceplymouth.org.uk
SUMMARY:Efford advice drop-in
DESCRIPTION:Our trained adviser can offer signposting and confidential advice on benefits\, budgeting\, debts and ways to increase income – no appointment needed.
URL:https://citizensadviceplymouth.org.uk/event/efford-advice-drop-in-2/
LOCATION:Efford Library\, 19 Torridge Way\, PL3 6JQ
CATEGORIES:Community,Money Advice,Open Clinic
END:VEVENT
BEGIN:VEVENT
DTSTART;TZID=Europe/London:20240622T120000
DTEND;TZID=Europe/London:20240622T170000
DTSTAMP:20260424T220202
CREATED:20240513T160528Z
LAST-MODIFIED:20240517T124514Z
UID:3489-1719057600-1719075600@citizensadviceplymouth.org.uk
SUMMARY:Plymouth Pride 2024
DESCRIPTION:Visit the Plymouth Pride website for full details of this event.
URL:https://citizensadviceplymouth.org.uk/event/plymouth-pride-2024/
LOCATION:Central Park\, Plymouth\, PL2 3DG
CATEGORIES:Community
END:VEVENT
BEGIN:VEVENT
DTSTART;TZID=Europe/London:20240626T110000
DTEND;TZID=Europe/London:20240626T150000
DTSTAMP:20260424T220202
CREATED:20240603T090937Z
LAST-MODIFIED:20240603T090937Z
UID:3555-1719399600-1719414000@citizensadviceplymouth.org.uk
SUMMARY:East End advice drop-in
DESCRIPTION:Our trained adviser can offer signposting and confidential advice on benefits\, budgeting\, debts and ways to increase income – no appointment needed.
URL:https://citizensadviceplymouth.org.uk/event/east-end-advice-drop-in-6/
LOCATION:Cattedown Social Club\, S Milton Street\, PL4 0QD
CATEGORIES:Community,Money Advice,Open Clinic
END:VEVENT
BEGIN:VEVENT
DTSTART;TZID=Europe/London:20240626T130000
DTEND;TZID=Europe/London:20240626T170000
DTSTAMP:20260424T220202
CREATED:20240603T133837Z
LAST-MODIFIED:20240603T133837Z
UID:3574-1719406800-1719421200@citizensadviceplymouth.org.uk
SUMMARY:Chinese Community Project advice drop-in
DESCRIPTION:Our trained adviser can offer signposting and confidential advice in Mandarin or Cantonese on issues like debt\, housing\, employment and more. No appointment needed\, and you do not need to be a resident of Tamfu House to access the drop-in. \nFor more details including different ways to access the project\, visit our Chinese Community Project webpage.
URL:https://citizensadviceplymouth.org.uk/event/chinese-community-project-advice-drop-in-4/
LOCATION:Tamfu House\, 29 Downton Close\, Plymouth\, PL1 5DD\, United Kingdom
CATEGORIES:Community,Money Advice,Open Clinic
END:VEVENT
BEGIN:VEVENT
DTSTART;TZID=Europe/London:20240627T100000
DTEND;TZID=Europe/London:20240627T140000
DTSTAMP:20260424T220202
CREATED:20240603T094411Z
LAST-MODIFIED:20240603T094411Z
UID:3557-1719482400-1719496800@citizensadviceplymouth.org.uk
SUMMARY:Estover advice drop-in
DESCRIPTION:Our trained adviser can offer signposting and confidential advice on benefits\, budgeting\, debts and ways to increase income – no appointment needed.
URL:https://citizensadviceplymouth.org.uk/event/estover-advice-drop-in-10/
LOCATION:ELM Community Centre\, Leypark Drive\, Leypark Walk\, Estover\,\, Plymouth\, PL6 8UE
CATEGORIES:Community,Money Advice,Open Clinic
END:VEVENT
BEGIN:VEVENT
DTSTART;TZID=Europe/London:20240629T100000
DTEND;TZID=Europe/London:20240629T170000
DTSTAMP:20260424T220202
CREATED:20240517T125528Z
LAST-MODIFIED:20240517T130249Z
UID:3500-1719655200-1719680400@citizensadviceplymouth.org.uk
SUMMARY:Plymouth Armed Forces Day 2024
DESCRIPTION:Visit the Plymouth Armed Forces Day website for full details.
URL:https://citizensadviceplymouth.org.uk/event/plymouth-armed-forces-day-2024/
LOCATION:Plymouth
CATEGORIES:Community
END:VEVENT
END:VCALENDAR