BEGIN:VCALENDAR
VERSION:2.0
PRODID:-//Citizens Advice Plymouth - ECPv6.15.20//NONSGML v1.0//EN
CALSCALE:GREGORIAN
METHOD:PUBLISH
X-WR-CALNAME:Citizens Advice Plymouth
X-ORIGINAL-URL:https://citizensadviceplymouth.org.uk
X-WR-CALDESC:Events for Citizens Advice Plymouth
REFRESH-INTERVAL;VALUE=DURATION:PT1H
X-Robots-Tag:noindex
X-PUBLISHED-TTL:PT1H
BEGIN:VTIMEZONE
TZID:Europe/London
BEGIN:DAYLIGHT
TZOFFSETFROM:+0000
TZOFFSETTO:+0100
TZNAME:BST
DTSTART:20240331T010000
END:DAYLIGHT
BEGIN:STANDARD
TZOFFSETFROM:+0100
TZOFFSETTO:+0000
TZNAME:GMT
DTSTART:20241027T010000
END:STANDARD
BEGIN:DAYLIGHT
TZOFFSETFROM:+0000
TZOFFSETTO:+0100
TZNAME:BST
DTSTART:20250330T010000
END:DAYLIGHT
BEGIN:STANDARD
TZOFFSETFROM:+0100
TZOFFSETTO:+0000
TZNAME:GMT
DTSTART:20251026T010000
END:STANDARD
BEGIN:DAYLIGHT
TZOFFSETFROM:+0000
TZOFFSETTO:+0100
TZNAME:BST
DTSTART:20260329T010000
END:DAYLIGHT
BEGIN:STANDARD
TZOFFSETFROM:+0100
TZOFFSETTO:+0000
TZNAME:GMT
DTSTART:20261025T010000
END:STANDARD
END:VTIMEZONE
BEGIN:VEVENT
DTSTART;TZID=Europe/London:20250624T100000
DTEND;TZID=Europe/London:20250624T123000
DTSTAMP:20260421T113843
CREATED:20250425T145158Z
LAST-MODIFIED:20250429T133126Z
UID:7276-1750759200-1750768200@citizensadviceplymouth.org.uk
SUMMARY:North Prospect advice drop-in - The Beacon
DESCRIPTION:Our trained adviser can offer signposting and confidential advice on benefits\, budgeting\, debts\, housing and ways to increase income – no appointment needed.
URL:https://citizensadviceplymouth.org.uk/event/north-prospect-advice-drop-in-5/
LOCATION:The Beacon\, 163 North Prospect Road\, PL2 2ND
CATEGORIES:Free Event,Money Advice,Open Clinic
END:VEVENT
BEGIN:VEVENT
DTSTART;TZID=Europe/London:20250624T100000
DTEND;TZID=Europe/London:20250624T140000
DTSTAMP:20260421T113843
CREATED:20250320T131241Z
LAST-MODIFIED:20250320T131241Z
UID:6949-1750759200-1750773600@citizensadviceplymouth.org.uk
SUMMARY:Southway advice drop-in - Youth & Community Centre
DESCRIPTION:Our trained adviser can offer signposting and confidential advice on benefits\, budgeting\, debts\, housing and ways to increase income – no appointment needed.
URL:https://citizensadviceplymouth.org.uk/event/southway-advice-drop-in-youth-community-centre-6/
LOCATION:Southway Youth & Community Centre\, Hendwell Close\, Plymouth\, PL6 6TB
CATEGORIES:Free Event,Money Advice,Open Clinic
END:VEVENT
END:VCALENDAR